BEGIN:VCALENDAR
VERSION:2.0
PRODID:-//NorthWestMystical - ECPv6.15.13//NONSGML v1.0//EN
CALSCALE:GREGORIAN
METHOD:PUBLISH
X-ORIGINAL-URL:https://nwmystical.com
X-WR-CALDESC:Events for NorthWestMystical
REFRESH-INTERVAL;VALUE=DURATION:PT1H
X-Robots-Tag:noindex
X-PUBLISHED-TTL:PT1H
BEGIN:VTIMEZONE
TZID:Asia/Krasnoyarsk
BEGIN:STANDARD
TZOFFSETFROM:+0700
TZOFFSETTO:+0700
TZNAME:+07
DTSTART:20220101T000000
END:STANDARD
END:VTIMEZONE
BEGIN:VEVENT
DTSTART;TZID=Asia/Krasnoyarsk:20230325T110000
DTEND;TZID=Asia/Krasnoyarsk:20230326T190000
DTSTAMP:20260419T233636
CREATED:20230322T130025Z
LAST-MODIFIED:20230322T235934Z
UID:1229-1679742000-1679857200@nwmystical.com
SUMMARY:**My Voyage of Fulfillment - How Past Lives Impact My Life Today and Create My Destiny!** by NorthWestMystical and the Astro-Soul® Program
DESCRIPTION:**My Voyage Of Fulfillment – How Past Lives Impact My Life Today & My Destiny!\n\n**MeWe Metaphysics & Wellness Fair\,” 80 Booths/20 Talks at the Double Tree Hotel\, Portland\, Oregon https://www.facebook.com/events/551333203306364 \n Readings will be available!  **Learn\n=> What I’ve Come To Give To Me This Lifetime\n=>A Past Lifetime That Strengthens Me Today\n=>Skills and Talents I’ve Come To Work With\n=>Tendencies that may hold me back\n=>Healing Chakra(s) and Souls Involved\n=>A Solution That Will Help Me\n=>Angelic Inspiration To Fulfill the Dream\n**And So Much More! $35 \n**Please stop by the NorthWestMystical booth. See You There! \nInstructor \nJohn Pease\nSpiritual Consultant/Facilitator & Educator\nAstro-Soul®\, Wayshowers College® Inner Peace Movement® Programs\nwww.NorthWestMystical.com\nhttps://www.meetup.com/Portland-New-Spiritual-Horizons\nhttps://www.facebook.com/NorthWestMystical/\nwww.WayshowersCollege.com\nhttps://newspiritualhorizons.com\nwww.IPMInternational.org\njohn@NWMystical.com\n503.869.9104 \n\n 
URL:https://nwmystical.com/event/my-voyage-of-fulfillment-how-past-lives-impact-my-life-today-and-create-my-destiny-by-northwestmystical-and-the-astro-soul-program/
LOCATION:Double Tree Hotel\, 1000 NE Multnomah St\, Portland
ATTACH;FMTTYPE=application/pdf:https://nwmystical.com/wp-content/uploads/2023/03/Cape-Mears-PDF.pdf
END:VEVENT
END:VCALENDAR