BEGIN:VCALENDAR
VERSION:2.0
PRODID:-//NorthWestMystical - ECPv6.15.13//NONSGML v1.0//EN
CALSCALE:GREGORIAN
METHOD:PUBLISH
X-WR-CALNAME:NorthWestMystical
X-ORIGINAL-URL:https://nwmystical.com
X-WR-CALDESC:Events for NorthWestMystical
REFRESH-INTERVAL;VALUE=DURATION:PT1H
X-Robots-Tag:noindex
X-PUBLISHED-TTL:PT1H
BEGIN:VTIMEZONE
TZID:America/Los_Angeles
BEGIN:DAYLIGHT
TZOFFSETFROM:-0800
TZOFFSETTO:-0700
TZNAME:PDT
DTSTART:20220313T100000
END:DAYLIGHT
BEGIN:STANDARD
TZOFFSETFROM:-0700
TZOFFSETTO:-0800
TZNAME:PST
DTSTART:20221106T090000
END:STANDARD
BEGIN:DAYLIGHT
TZOFFSETFROM:-0800
TZOFFSETTO:-0700
TZNAME:PDT
DTSTART:20230312T100000
END:DAYLIGHT
BEGIN:STANDARD
TZOFFSETFROM:-0700
TZOFFSETTO:-0800
TZNAME:PST
DTSTART:20231105T090000
END:STANDARD
BEGIN:DAYLIGHT
TZOFFSETFROM:-0800
TZOFFSETTO:-0700
TZNAME:PDT
DTSTART:20240310T100000
END:DAYLIGHT
BEGIN:STANDARD
TZOFFSETFROM:-0700
TZOFFSETTO:-0800
TZNAME:PST
DTSTART:20241103T090000
END:STANDARD
END:VTIMEZONE
BEGIN:VEVENT
DTSTART;TZID=America/Los_Angeles:20230915T160000
DTEND;TZID=America/Los_Angeles:20230917T170000
DTSTAMP:20260419T143024
CREATED:20230913T184242Z
LAST-MODIFIED:20230913T195659Z
UID:1293-1694793600-1694970000@nwmystical.com
SUMMARY:Healing Past Lives That Impact Health\, Security & Success! by NorthWestMystical® and the Astro-Soul® Program
DESCRIPTION:**Metaphysics & Wellness Me/We Fair + Gem Show in Portland\, Oregon 90 Healers\, Readers and Vendors plus 35 Free Presentations https://www.facebook.com/events/157552803935188/ \n**Healing Past Lives That Impact My Health\, Security and Success!** by\nNorthWestMystical®.com \nThree Unique Readings will be available! You will learn …\n=> The Life Experience I’ve Come To Give To Me This Lifetime\n=> A Past Lifetime That Strengthens Me Today\n=> Skills and Talents I’ve Come To Work With\n=> Tendencies that may hold me back\n=> Healing Chakra(s) and Souls Involved\n=> Angelic Inspiration To Fulfill the Dream\n=> Healing Souls In Confusion as Guided By Spirit\n**And So Much More! $25\, 35 & 45 \n**Please stop by the NorthWestMystical booth. See You There! \nJohn Pease\nSpiritual Healer/Consultant & Educator\nAstro-Soul®\, Wayshowers College® Inner Peace Movement® Programs\nwww.NorthWestMystical.com\nhttps://www.facebook.com/NorthWestMystical/\nPortland New Spiritual Horizons Meetup\nwww.WayshowersCollege.com\nhttps://newspiritualhorizons.com\nwww.IPMInternational.org\njohn@NWMystical.com\n503.869.9104 \n\n 
URL:https://nwmystical.com/event/healing-past-lives-that-impact-health-security-success-by-northwestmystical-and-the-astro-soul-program/
LOCATION:Double Tree Hotel\, 1000 NE Multnomah St\, Portland
ATTACH;FMTTYPE=image/png:https://nwmystical.com/wp-content/uploads/2023/09/Canva-6.png
END:VEVENT
END:VCALENDAR