BEGIN:VCALENDAR
VERSION:2.0
PRODID:-//NorthWestMystical - ECPv6.15.13//NONSGML v1.0//EN
CALSCALE:GREGORIAN
METHOD:PUBLISH
X-ORIGINAL-URL:https://nwmystical.com
X-WR-CALDESC:Events for NorthWestMystical
REFRESH-INTERVAL;VALUE=DURATION:PT1H
X-Robots-Tag:noindex
X-PUBLISHED-TTL:PT1H
BEGIN:VTIMEZONE
TZID:UTC
BEGIN:STANDARD
TZOFFSETFROM:+0000
TZOFFSETTO:+0000
TZNAME:UTC
DTSTART:20210101T000000
END:STANDARD
END:VTIMEZONE
BEGIN:VEVENT
DTSTART;TZID=UTC:20220606T190000
DTEND;TZID=UTC:20220606T203000
DTSTAMP:20260422T112832
CREATED:20220603T162907Z
LAST-MODIFIED:20220603T180156Z
UID:1079-1654542000-1654547400@nwmystical.com
SUMMARY:Premonition – The Exhilaration Journey! A Zoom Presentation by NorthWestMystical and the Astro-Soul® Program
DESCRIPTION:Discovery of Our Intuitive Abilities\n\nPremonition (Prophecy) – Opportunities Ahead and Forewarning\nInner Vision (Clairvoyance) – Seeing the Roadmap to Achieve Your Dream Come True\nClear Hearing (Clairaudience) – Inspiration and Ideas to Create Meaningful Change\n\nFeeling (Psychometry) – Inner Guidance Through Feelings and Targeted Healing\nLearn Spiritual Cleansing of the Soul Technique\nPremonition Journey Technique – Discerning Opportunities Up Ahead\n\nInstructors: \nJohn Pease\nFacilitator/Spiritual Consultant\nAstro-Soul®\, Inner Peace Movement®\, PCCI®\, New Spiritual Horizons® Programs\nhttps://nwmystical.com/\nhttps://pcciworld.org/\nhttps://www.ipminternational.org\nhttps://www.meetup.com/Portland-New-Spiritual-Horizons\nhttps://www.facebook.com/NorthWestMystical/\njohn@NWMystical.com\n503.869.9104
URL:https://nwmystical.com/event/premonition-the-exhilaration-journey-a-zoom-presentation-by-northwestmystical-and-the-astro-soul-program/
LOCATION:OR
ATTACH;FMTTYPE=image/png:https://nwmystical.com/wp-content/uploads/2021/01/Screenshot_2021-01-09-Intuition-Guide-To-The-Life-Experience-I-Want-Astro-Soul®-Program.png
END:VEVENT
BEGIN:VEVENT
DTSTART;TZID=UTC:20220613T183000
DTEND;TZID=UTC:20220613T213000
DTSTAMP:20260422T112832
CREATED:20220608T042356Z
LAST-MODIFIED:20220610T035632Z
UID:1099-1655145000-1655155800@nwmystical.com
SUMMARY:Premonition – The Exhilaration Journey! Astro Soul® Techniques Workshop June 13th\, 2022
DESCRIPTION:Discovering Our Intuitive Abilities\n\nCleansing of the Soul and Body so Insights Come from Only the Highest Source\nPerception through “Inner Hearing” (Clairaudience) – Ideas to Create Meaningful Change\nImpressions through “Inner Feelings” (Psychometric) – Guidance and Targeted Healing\nSpiritually Travel to the Well-Spring of All Life – often called Nirvana\, the Tao or Heaven – to Help Clarify the Bigger Picture of Spiritual Evolution\n\nFacilitator: \nJohn Pease\nFacilitator/Spiritual Consultant\nAstro-Soul®\, Inner Peace Movement®\, PCCI®\, New Spiritual Horizons® Programs\nhttps://nwmystical.com/\nhttps://pcciworld.org/\nhttps://www.ipminternational.org\nhttps://www.meetup.com/Portland-New-Spiritual-Horizons\nhttps://www.facebook.com/NorthWestMystical/\njohn@NWMystical.com\n503.869.9104
URL:https://nwmystical.com/event/premonition-the-exhilaration-journey-astro-soul-techniques-workshop-june-13th-2022/
LOCATION:OR
ATTACH;FMTTYPE=image/png:https://nwmystical.com/wp-content/uploads/2021/01/Screenshot_2021-01-09-Intuition-Guide-To-The-Life-Experience-I-Want-Astro-Soul®-Program.png
END:VEVENT
END:VCALENDAR